BEGIN:VCALENDAR
VERSION:2.0
PRODID:-//wp-events-plugin.com//7.2.3.1//EN
BEGIN:VEVENT
UID:4@giintelligence.com
DTSTART:20220808T000000Z
DTEND:20220809T000000Z
DTSTAMP:20220805T142447Z
URL:https://giintelligence.com/booking/treasury-liquidity-risk-master-clas
 s-3/
SUMMARY:treasury & liquidity Risk Master class
DESCRIPTION:
CATEGORIES:Online &amp; Physical
END:VEVENT
END:VCALENDAR