BEGIN:VCALENDAR
VERSION:2.0
PRODID:-//wp-events-plugin.com//7.2.3.1//EN
BEGIN:VEVENT
UID:2@giintelligence.com
DTSTART:20220801T000000Z
DTEND:20220802T000000Z
DTSTAMP:20220606T061854Z
URL:https://giintelligence.com/booking/treasury-liquidity-risk-master-clas
 s/
SUMMARY:Treasury & Liquidity Risk Master class
DESCRIPTION:
CATEGORIES:Online &amp; Physical
LOCATION:Pearl Continental Karachi & Online On Zoom\, Pearl Continental\, C
 lub Road\, Civil Lines\, \, Karachi\,\, Pakistan\,\,  75520\,\, Sindh\,\, 
 Pakistan
X-APPLE-STRUCTURED-LOCATION;VALUE=URI;X-ADDRESS=Pearl Continental\, Club Ro
 ad\, Civil Lines\, \, Karachi\,\, Pakistan\,\,  75520\,\, Sindh\,\, Pakist
 an;X-APPLE-RADIUS=100;X-TITLE=Pearl Continental Karachi & Online On Zoom:g
 eo:0,0
END:VEVENT
END:VCALENDAR